BEGIN:VCALENDAR
VERSION:2.0
PRODID:-//BGCA - ECPv6.15.18//NONSGML v1.0//EN
CALSCALE:GREGORIAN
METHOD:PUBLISH
X-ORIGINAL-URL:https://www.bgcps.org
X-WR-CALDESC:Events for BGCA
REFRESH-INTERVAL;VALUE=DURATION:PT1H
X-Robots-Tag:noindex
X-PUBLISHED-TTL:PT1H
BEGIN:VTIMEZONE
TZID:UTC
BEGIN:STANDARD
TZOFFSETFROM:+0000
TZOFFSETTO:+0000
TZNAME:UTC
DTSTART:20230101T000000
END:STANDARD
END:VTIMEZONE
BEGIN:VEVENT
DTSTART;TZID=UTC:20240324T080000
DTEND;TZID=UTC:20240324T170000
DTSTAMP:20260421T192131
CREATED:20240227T230455Z
LAST-MODIFIED:20240315T121156Z
UID:391-1711267200-1711299600@www.bgcps.org
SUMMARY:Test Event
DESCRIPTION:Health & Wellness Center\nThe Health & Wellness Center at the Boys & Girls Club of Palm Springs is a welcoming place where students can enjoy activities and educational programs on topics such as making healthy choices\, how cannabis use affects the growing mind/body\, and more. They can also take part in fun youth-led projects to develop leadership skills\, learn how to create healthy foods and snacks in the Center’s demonstration kitchen or sit in the quiet reading nook checking out materials in the resource library. \nAim Media Group
URL:https://www.bgcps.org/event/test-event/
LOCATION:BCGA\, 450 South Sunrise Way\, Palm Springs\, 92262\, United States
ATTACH;FMTTYPE=image/png:https://www.bgcps.org/wp-content/uploads/2023/12/PassporttoManhoodLogo-380x215-1.png
END:VEVENT
END:VCALENDAR