BEGIN:VCALENDAR
VERSION:2.0
PRODID:-//BGCA - ECPv6.15.18//NONSGML v1.0//EN
CALSCALE:GREGORIAN
METHOD:PUBLISH
X-ORIGINAL-URL:https://www.bgcps.org
X-WR-CALDESC:Events for BGCA
REFRESH-INTERVAL;VALUE=DURATION:PT1H
X-Robots-Tag:noindex
X-PUBLISHED-TTL:PT1H
BEGIN:VTIMEZONE
TZID:UTC
BEGIN:STANDARD
TZOFFSETFROM:+0000
TZOFFSETTO:+0000
TZNAME:UTC
DTSTART:20230101T000000
END:STANDARD
END:VTIMEZONE
BEGIN:VTIMEZONE
TZID:America/Los_Angeles
BEGIN:DAYLIGHT
TZOFFSETFROM:-0800
TZOFFSETTO:-0700
TZNAME:PDT
DTSTART:20250309T100000
END:DAYLIGHT
BEGIN:STANDARD
TZOFFSETFROM:-0700
TZOFFSETTO:-0800
TZNAME:PST
DTSTART:20251102T090000
END:STANDARD
BEGIN:DAYLIGHT
TZOFFSETFROM:-0800
TZOFFSETTO:-0700
TZNAME:PDT
DTSTART:20260308T100000
END:DAYLIGHT
BEGIN:STANDARD
TZOFFSETFROM:-0700
TZOFFSETTO:-0800
TZNAME:PST
DTSTART:20261101T090000
END:STANDARD
BEGIN:DAYLIGHT
TZOFFSETFROM:-0800
TZOFFSETTO:-0700
TZNAME:PDT
DTSTART:20270314T100000
END:DAYLIGHT
BEGIN:STANDARD
TZOFFSETFROM:-0700
TZOFFSETTO:-0800
TZNAME:PST
DTSTART:20271107T090000
END:STANDARD
END:VTIMEZONE
BEGIN:VEVENT
DTSTART;VALUE=DATE:20240426
DTEND;VALUE=DATE:20240427
DTSTAMP:20260421T204536
CREATED:20240315T120159Z
LAST-MODIFIED:20240418T014338Z
UID:434-1714089600-1714175999@www.bgcps.org
SUMMARY:The 15th Annual ONE-PS Picnic & Community Expo
DESCRIPTION:
URL:https://www.bgcps.org/event/he-15th-annual-one-ps-picnic-community-expo/
LOCATION:Ruth Hardy Park\, 700 Tamarisk Rd\, Palm Springs\, CA\, 92262\, United States
ATTACH;FMTTYPE=image/png:https://www.bgcps.org/wp-content/uploads/2024/01/Screenshot2022-04-28135928.png
END:VEVENT
BEGIN:VEVENT
DTSTART;TZID=America/Los_Angeles:20261025T163000
DTEND;TZID=America/Los_Angeles:20261025T190000
DTSTAMP:20260421T204536
CREATED:20250418T161712Z
LAST-MODIFIED:20260408T205434Z
UID:861-1792945800-1792954800@www.bgcps.org
SUMMARY:"Be a Hero For Kids" Halloween Bash 2026
DESCRIPTION:  \nFind Out More Details Here\nClick Here for more details \n \n \n 
URL:https://www.bgcps.org/event/be-a-hero-for-kids-halloween-bash/
LOCATION:Hilton Palm Springs\, 400 E Tahquitz Canyon Way\, Palm Springs\, CA\, 92262\, United States
ATTACH;FMTTYPE=image/jpeg:https://www.bgcps.org/wp-content/uploads/2026/04/BGC_Save-the-Date_v6-1.jpg
END:VEVENT
END:VCALENDAR