BEGIN:VCALENDAR
VERSION:2.0
PRODID:-//BGCA - ECPv6.15.18//NONSGML v1.0//EN
CALSCALE:GREGORIAN
METHOD:PUBLISH
X-WR-CALNAME:BGCA
X-ORIGINAL-URL:https://www.bgcps.org
X-WR-CALDESC:Events for BGCA
REFRESH-INTERVAL;VALUE=DURATION:PT1H
X-Robots-Tag:noindex
X-PUBLISHED-TTL:PT1H
BEGIN:VTIMEZONE
TZID:UTC
BEGIN:STANDARD
TZOFFSETFROM:+0000
TZOFFSETTO:+0000
TZNAME:UTC
DTSTART:20230101T000000
END:STANDARD
END:VTIMEZONE
BEGIN:VEVENT
DTSTART;TZID=UTC:20240424T140000
DTEND;TZID=UTC:20240424T170000
DTSTAMP:20260421T191807
CREATED:20240315T115935Z
LAST-MODIFIED:20240418T014415Z
UID:426-1713967200-1713978000@www.bgcps.org
SUMMARY:PS Library for Family Fun Fest
DESCRIPTION:PS Library for Family Fun Fest – Baseball Stadium – Wed. March 27\, 2024
URL:https://www.bgcps.org/event/ps-library-for-family-fun-fest/
LOCATION:Palm Springs Power Baseball Stadium\, 1901 E Baristo Rd\, Palm Springs\, CA\, 92262\, United States
CATEGORIES:Kids- Offsite
END:VEVENT
END:VCALENDAR